BEGIN:VCALENDAR
VERSION:2.0
PRODID:-//Contratero//ES
CALSCALE:GREGORIAN
METHOD:PUBLISH
BEGIN:VEVENT
UID:FGUV 1/2026@contratero.es
DTSTAMP:20260421T151358Z
DTSTART:20260306T235959
DTEND:20260307T005959
SUMMARY:Cierre: Prestación del servicio “Chief Information Securit
DESCRIPTION:Prestación del servicio “Chief Information Security Officer (CISO) as a Service” para la Fundació General de la Universitat de València\,\nde la Comunitat Valenciana\, M.P. (FGUV)\, protegiendo de esta f...\\n\\nOrganismo: Vicepresidencia Ejecutiva de la Fundació General de la Universitat de València\\n\\nVer en Contratero: https://contratero.es/contracts/FGUV 1/2026
URL:https://contratero.es/contracts/FGUV 1/2026
STATUS:CONFIRMED
BEGIN:VALARM
TRIGGER:-P1D
ACTION:DISPLAY
DESCRIPTION:Recordatorio: Prestación del servicio “Chief
END:VALARM
END:VEVENT
END:VCALENDAR